BEGIN:VCALENDAR
VERSION:2.0
PRODID:-//Mission Critical Concepts Training - ECPv6.15.20//NONSGML v1.0//EN
CALSCALE:GREGORIAN
METHOD:PUBLISH
X-WR-CALNAME:Mission Critical Concepts Training
X-ORIGINAL-URL:https://missioncriticalconceptstraining.com
X-WR-CALDESC:Events for Mission Critical Concepts Training
REFRESH-INTERVAL;VALUE=DURATION:PT1H
X-Robots-Tag:noindex
X-PUBLISHED-TTL:PT1H
BEGIN:VTIMEZONE
TZID:America/Chicago
BEGIN:DAYLIGHT
TZOFFSETFROM:-0600
TZOFFSETTO:-0500
TZNAME:CDT
DTSTART:20250309T080000
END:DAYLIGHT
BEGIN:STANDARD
TZOFFSETFROM:-0500
TZOFFSETTO:-0600
TZNAME:CST
DTSTART:20251102T070000
END:STANDARD
BEGIN:DAYLIGHT
TZOFFSETFROM:-0600
TZOFFSETTO:-0500
TZNAME:CDT
DTSTART:20260308T080000
END:DAYLIGHT
BEGIN:STANDARD
TZOFFSETFROM:-0500
TZOFFSETTO:-0600
TZNAME:CST
DTSTART:20261101T070000
END:STANDARD
BEGIN:DAYLIGHT
TZOFFSETFROM:-0600
TZOFFSETTO:-0500
TZNAME:CDT
DTSTART:20270314T080000
END:DAYLIGHT
BEGIN:STANDARD
TZOFFSETFROM:-0500
TZOFFSETTO:-0600
TZNAME:CST
DTSTART:20271107T070000
END:STANDARD
END:VTIMEZONE
BEGIN:VEVENT
DTSTART;TZID=America/Chicago:20260921T080000
DTEND;TZID=America/Chicago:20260925T170000
DTSTAMP:20260421T033934
CREATED:20260123T184521Z
LAST-MODIFIED:20260123T184648Z
UID:10000025-1789977600-1790355600@missioncriticalconceptstraining.com
SUMMARY:Basic SWAT Course
DESCRIPTION:The Five-Day Basic SWAT Course is an intensive\, performance-driven program designed for entry-level Tactical Officers/Operators and currently assigned SWAT personnel who have not attended an updated SWAT course in several years. This course establishes a solid operational foundation and reinforces modern tactical principles required to operate effectively in today’s dynamic and kinetic law enforcement environment. \nThis course focuses on the core fundamentals of team-based tactical operations\, emphasizing individual responsibility within the team framework. Instruction concentrates on tactical team basics\, operational skills\, and foundational concepts\, while reinforcing the importance of team composition\, roles\, and interpersonal dynamics under stress. \nTRAINING EMPHASIS\nThroughout the week\, students will train in: \n\nTactical team operations and movement\nOperational scouting and intelligence gathering\nMission planning and execution\nVariable operational concepts for kinetic environments\nLeadership under pressure\nAsymmetric thinking and problem-solving\nTeamwork and communication in high-risk operations\n\nInstruction is reinforced through extensive Field Training Exercises (FTXs) and experiential-based scenarios designed to replicate real-world operational demands. These exercises challenge students to apply both proven and emerging tactical concepts while operating under physical and cognitive stress. \nCOURSE DEMANDS\nThis is a physically and mentally demanding course intended to push students beyond baseline performance levels. The training environment is fast-paced and unforgiving\, requiring discipline\, adaptability\, and accountability. While challenging\, the course is highly rewarding for motivated operators committed to improving their tactical capability and effectiveness within a team. \nPREREQUISITES\nParticipants are expected to arrive with a high level of operational proficiency in both handgun and rifle platforms. This course is not designed to teach basic firearms fundamentals. \nEQUIPMENT\nEquipment list: \n\nStandard callout gear\n\nVest/plate carrier\nHelmet\nBelt\nGloves\nWeather appropriate clothing\nEye pro\nEar pro\nGloves\nHandheld light\nSpare batteries\nBallistic shield\nWater/hydration\nLaptop/MDC to type scout/briefing/ops plans\nNote taking material\n\n\nFirearms\n\nHandgun\nWML\nHolster\n3 mags\n600 handgun rounds\nAR style rifle\nWML\nSling\n3 mags\n850 rifle rounds\n\n\n\nMN POST Credit Hours: 40
URL:https://missioncriticalconceptstraining.com/event/basic-swat-course-2/
LOCATION:St. Cloud\, MN
CATEGORIES:Law Enforcement
ATTACH;FMTTYPE=image/jpeg:https://missioncriticalconceptstraining.com/wp-content/uploads/Basic-Swat.jpg
ORGANIZER;CN="Jake May":MAILTO:missioncriticalconceptsactual@gmail.com
END:VEVENT
END:VCALENDAR